BEGIN:VCALENDAR
VERSION:2.0
PRODID:-//Suquamish Museum - ECPv6.15.20//NONSGML v1.0//EN
CALSCALE:GREGORIAN
METHOD:PUBLISH
X-ORIGINAL-URL:https://suquamishmuseum.org
X-WR-CALDESC:Events for Suquamish Museum
REFRESH-INTERVAL;VALUE=DURATION:PT1H
X-Robots-Tag:noindex
X-PUBLISHED-TTL:PT1H
BEGIN:VTIMEZONE
TZID:UTC
BEGIN:STANDARD
TZOFFSETFROM:+0000
TZOFFSETTO:+0000
TZNAME:UTC
DTSTART:20250101T000000
END:STANDARD
END:VTIMEZONE
BEGIN:VEVENT
DTSTART;TZID=UTC:20260107T000000
DTEND;TZID=UTC:20260118T235959
DTSTAMP:20260422T230104
CREATED:20251217T204256Z
LAST-MODIFIED:20251217T220840Z
UID:10000087-1767744000-1768780799@suquamishmuseum.org
SUMMARY:Glass Float Find
DESCRIPTION:Two glass floats hidden weekly in Suquamish. Follow @SuquamishMuseum on Facebook for weekly clues. If you find it\, you keep it!
URL:https://suquamishmuseum.org/event/glass-float-find/
ATTACH;FMTTYPE=image/webp:https://suquamishmuseum.org/wp-content/uploads/2025/12/suquamish_museum_glass_float_find-2.webp
ORGANIZER;CN="Suquamish Museum":MAILTO:Museum@suquamish.nsn.us
END:VEVENT
BEGIN:VEVENT
DTSTART;TZID=UTC:20260107T100000
DTEND;TZID=UTC:20260329T170000
DTSTAMP:20260422T230104
CREATED:20251217T221249Z
LAST-MODIFIED:20251217T221253Z
UID:10000102-1767780000-1774803600@suquamishmuseum.org
SUMMARY:Traditions of Suquamish Weaving
DESCRIPTION:Discover how Suquamish weavers used rare Coast Salish Woolly Dog’s fur\, Cedar Bark\, and other materials to create textiles that carried identity\, artistry\, and tradition. This mini exhibit highlights the deep cultural significance of weaving within Suquamish heritage through stories\, photos\, and historic imagery.
URL:https://suquamishmuseum.org/event/traditions-of-suquamish-weaving/
ATTACH;FMTTYPE=image/webp:https://suquamishmuseum.org/wp-content/uploads/2025/12/suquamish_museum_traditions_weaving.webp
END:VEVENT
BEGIN:VEVENT
DTSTART;TZID=UTC:20260117T100000
DTEND;TZID=UTC:20260117T140000
DTSTAMP:20260422T230104
CREATED:20251217T204711Z
LAST-MODIFIED:20251217T220830Z
UID:10000088-1768644000-1768658400@suquamishmuseum.org
SUMMARY:Rose Bouquet Workshop
DESCRIPTION:Led by Tribal Member Lisa Jackson. All materials provided. Ages 14+. \n\n\n\nCall 360-394-7105 or email museum@suquamish.nsn.us.
URL:https://suquamishmuseum.org/event/rose-bouquet-workshop/
ATTACH;FMTTYPE=image/png:https://suquamishmuseum.org/wp-content/uploads/2025/12/Lisa-Cedar-Rose-Boquete-Workshop-2025-Website-495x321-1.png
END:VEVENT
END:VCALENDAR