BEGIN:VCALENDAR
VERSION:2.0
PRODID:-//Suquamish Museum - ECPv6.15.20//NONSGML v1.0//EN
CALSCALE:GREGORIAN
METHOD:PUBLISH
X-WR-CALNAME:Suquamish Museum
X-ORIGINAL-URL:https://suquamishmuseum.org
X-WR-CALDESC:Events for Suquamish Museum
REFRESH-INTERVAL;VALUE=DURATION:PT1H
X-Robots-Tag:noindex
X-PUBLISHED-TTL:PT1H
BEGIN:VTIMEZONE
TZID:UTC
BEGIN:STANDARD
TZOFFSETFROM:+0000
TZOFFSETTO:+0000
TZNAME:UTC
DTSTART:20250101T000000
END:STANDARD
END:VTIMEZONE
BEGIN:VEVENT
DTSTART;TZID=UTC:20260107T100000
DTEND;TZID=UTC:20260329T170000
DTSTAMP:20260423T214938
CREATED:20251217T221249Z
LAST-MODIFIED:20251217T221253Z
UID:10000102-1767780000-1774803600@suquamishmuseum.org
SUMMARY:Traditions of Suquamish Weaving
DESCRIPTION:Discover how Suquamish weavers used rare Coast Salish Woolly Dog’s fur\, Cedar Bark\, and other materials to create textiles that carried identity\, artistry\, and tradition. This mini exhibit highlights the deep cultural significance of weaving within Suquamish heritage through stories\, photos\, and historic imagery.
URL:https://suquamishmuseum.org/event/traditions-of-suquamish-weaving/
ATTACH;FMTTYPE=image/webp:https://suquamishmuseum.org/wp-content/uploads/2025/12/suquamish_museum_traditions_weaving.webp
END:VEVENT
BEGIN:VEVENT
DTSTART;TZID=UTC:20260201T090000
DTEND;TZID=UTC:20260214T160000
DTSTAMP:20260423T214938
CREATED:20251217T210215Z
LAST-MODIFIED:20251217T220807Z
UID:10000090-1769936400-1771084800@suquamishmuseum.org
SUMMARY:Valentine Gift for Members
DESCRIPTION:One gift per active membership; no store purchase necessary.
URL:https://suquamishmuseum.org/event/valentine-gift-for-members/
ATTACH;FMTTYPE=image/webp:https://suquamishmuseum.org/wp-content/uploads/2025/12/suquamish_museum_valentine-1.webp
END:VEVENT
BEGIN:VEVENT
DTSTART;TZID=UTC:20260201T090000
DTEND;TZID=UTC:20260214T160000
DTSTAMP:20260423T214938
CREATED:20251217T210511Z
LAST-MODIFIED:20251217T220756Z
UID:10000091-1769936400-1771084800@suquamishmuseum.org
SUMMARY:Staff Picks: Valentine’s Day
DESCRIPTION:Handpicked gift favorites from staff. Look for the heart icons in-store to find something special at the Museum Store.
URL:https://suquamishmuseum.org/event/staff-picks-valentines-day/
LOCATION:Suquamish Museum\, 6861 NE South St.\, Suquamish\, WA\, 98392\, United States
ATTACH;FMTTYPE=image/webp:https://suquamishmuseum.org/wp-content/uploads/2025/12/suquamish_museum_staff_valentine_picks-1.webp
END:VEVENT
END:VCALENDAR