BEGIN:VCALENDAR
VERSION:2.0
PRODID:-//Suquamish Museum - ECPv6.15.20//NONSGML v1.0//EN
CALSCALE:GREGORIAN
METHOD:PUBLISH
X-ORIGINAL-URL:https://suquamishmuseum.org
X-WR-CALDESC:Events for Suquamish Museum
REFRESH-INTERVAL;VALUE=DURATION:PT1H
X-Robots-Tag:noindex
X-PUBLISHED-TTL:PT1H
BEGIN:VTIMEZONE
TZID:UTC
BEGIN:STANDARD
TZOFFSETFROM:+0000
TZOFFSETTO:+0000
TZNAME:UTC
DTSTART:20250101T000000
END:STANDARD
END:VTIMEZONE
BEGIN:VEVENT
DTSTART;TZID=UTC:20260610T090000
DTEND;TZID=UTC:20260621T160000
DTSTAMP:20260421T181818
CREATED:20260301T165249Z
LAST-MODIFIED:20260301T165251Z
UID:10000111-1781082000-1782057600@suquamishmuseum.org
SUMMARY:Father's Day Gift: Free Suquamish Museum Keychain
DESCRIPTION:Celebrate Father’s Day with a special thank-you gift! Receive a FREE Suquamish Museum keychain with any purchase over $25! \n\n\n\nLimit 1 per purchase. While supplies last.
URL:https://suquamishmuseum.org/event/fathers-day-gift-free-suquamish-museum-keychain/
ATTACH;FMTTYPE=image/png:https://suquamishmuseum.org/wp-content/uploads/2026/03/Fathers-Day-Gift-Promotion-Website.png
END:VEVENT
BEGIN:VEVENT
DTSTART;TZID=UTC:20260617T090000
DTEND;TZID=UTC:20260621T160000
DTSTAMP:20260421T181818
CREATED:20260301T171155Z
LAST-MODIFIED:20260301T171158Z
UID:10000116-1781686800-1782057600@suquamishmuseum.org
SUMMARY:Complimentary Father's Day Card Making
DESCRIPTION:Join us in celebrating the wonderful dads\, grandpas\, or uncles in your life by coloring them a Father’s Day card! \n\n\n\nAll supplies provided. All ages welcome. 2 card limit per person.
URL:https://suquamishmuseum.org/event/complimentary-fathers-day-card-making-2/
ATTACH;FMTTYPE=image/png:https://suquamishmuseum.org/wp-content/uploads/2026/03/FathersDayActivityWebsite.png
END:VEVENT
END:VCALENDAR