BEGIN:VCALENDAR
VERSION:2.0
PRODID:-//Suquamish Museum - ECPv6.15.20//NONSGML v1.0//EN
CALSCALE:GREGORIAN
METHOD:PUBLISH
X-WR-CALNAME:Suquamish Museum
X-ORIGINAL-URL:https://suquamishmuseum.org
X-WR-CALDESC:Events for Suquamish Museum
REFRESH-INTERVAL;VALUE=DURATION:PT1H
X-Robots-Tag:noindex
X-PUBLISHED-TTL:PT1H
BEGIN:VTIMEZONE
TZID:UTC
BEGIN:STANDARD
TZOFFSETFROM:+0000
TZOFFSETTO:+0000
TZNAME:UTC
DTSTART:20250101T000000
END:STANDARD
END:VTIMEZONE
BEGIN:VEVENT
DTSTART;TZID=UTC:20260107T100000
DTEND;TZID=UTC:20260329T170000
DTSTAMP:20260421T151951
CREATED:20251217T221249Z
LAST-MODIFIED:20251217T221253Z
UID:10000102-1767780000-1774803600@suquamishmuseum.org
SUMMARY:Traditions of Suquamish Weaving
DESCRIPTION:Discover how Suquamish weavers used rare Coast Salish Woolly Dog’s fur\, Cedar Bark\, and other materials to create textiles that carried identity\, artistry\, and tradition. This mini exhibit highlights the deep cultural significance of weaving within Suquamish heritage through stories\, photos\, and historic imagery.
URL:https://suquamishmuseum.org/event/traditions-of-suquamish-weaving/
ATTACH;FMTTYPE=image/webp:https://suquamishmuseum.org/wp-content/uploads/2025/12/suquamish_museum_traditions_weaving.webp
END:VEVENT
BEGIN:VEVENT
DTSTART;TZID=UTC:20260311T090000
DTEND;TZID=UTC:20260315T160000
DTSTAMP:20260421T151951
CREATED:20251217T212712Z
LAST-MODIFIED:20251217T220456Z
UID:10000095-1773219600-1773590400@suquamishmuseum.org
SUMMARY:Bookmark Activity
DESCRIPTION:Make a shamrock bookmark for St. Patrick’s Day. All supplies provided. One bookmark per person. All ages welcome.
URL:https://suquamishmuseum.org/event/bookmark-activity/
LOCATION:Suquamish Museum\, 6861 NE South St.\, Suquamish\, WA\, 98392\, United States
ATTACH;FMTTYPE=image/webp:https://suquamishmuseum.org/wp-content/uploads/2025/12/suquamish_museum_bookmark.webp
END:VEVENT
BEGIN:VEVENT
DTSTART;TZID=UTC:20260313T090000
DTEND;TZID=UTC:20260315T160000
DTSTAMP:20260421T151951
CREATED:20251217T212903Z
LAST-MODIFIED:20251217T220434Z
UID:10000096-1773392400-1773590400@suquamishmuseum.org
SUMMARY:General Council Sale
DESCRIPTION:Save 10% off total purchaseShop local and support the museum. Discount applies to every purchase and may be combined.
URL:https://suquamishmuseum.org/event/general-council-sale/
LOCATION:Suquamish Museum\, 6861 NE South St.\, Suquamish\, WA\, 98392\, United States
ATTACH;FMTTYPE=image/webp:https://suquamishmuseum.org/wp-content/uploads/2025/12/suquamish_museum_council-1.webp
END:VEVENT
BEGIN:VEVENT
DTSTART;TZID=UTC:20260314T100000
DTEND;TZID=UTC:20260314T170000
DTSTAMP:20260421T151951
CREATED:20251217T221159Z
LAST-MODIFIED:20251217T221201Z
UID:10000101-1773482400-1773507600@suquamishmuseum.org
SUMMARY:Second Saturday Admission
DESCRIPTION:Enjoy free admission to the museum every second Saturday of the month.
URL:https://suquamishmuseum.org/event/second-saturday-admission-3/
ATTACH;FMTTYPE=image/webp:https://suquamishmuseum.org/wp-content/uploads/2025/12/suquamish_museum_second_saturday.webp
END:VEVENT
BEGIN:VEVENT
DTSTART;TZID=UTC:20260318T170000
DTEND;TZID=UTC:20260318T183000
DTSTAMP:20260421T151951
CREATED:20251217T213741Z
LAST-MODIFIED:20260228T164012Z
UID:10000098-1773853200-1773858600@suquamishmuseum.org
SUMMARY:It's Giving... Murder (Cancelled)
DESCRIPTION:Due to unforeseen circumstances\, the Youth Murder Mystery event scheduled for March 18 has been canceled. \n\n\n\nWe appreciate your interest and understanding. Please stay tuned for future programming and events at the museum.
URL:https://suquamishmuseum.org/event/its-giving-murder/
ATTACH;FMTTYPE=image/webp:https://suquamishmuseum.org/wp-content/uploads/2025/12/suquamish_museum_murder-1.webp
END:VEVENT
BEGIN:VEVENT
DTSTART;TZID=UTC:20260321T100000
DTEND;TZID=UTC:20260321T140000
DTSTAMP:20260421T151951
CREATED:20251217T213100Z
LAST-MODIFIED:20260305T233829Z
UID:10000097-1774087200-1774101600@suquamishmuseum.org
SUMMARY:Small Cedar Basket Workshop
DESCRIPTION:Ages 14+; lead by Tribal Member Lisa Jackson; all materials provided. \n\n\n\nRegister at 360-394-7105 or museum@suquamish.nsn.us
URL:https://suquamishmuseum.org/event/small-cedar-basket-workshop-2/
ATTACH;FMTTYPE=image/jpeg:https://suquamishmuseum.org/wp-content/uploads/2025/12/4ce1da45-a1f8-431e-9e47-1f8a5572c9a1.jpg
END:VEVENT
END:VCALENDAR