BEGIN:VCALENDAR
VERSION:2.0
PRODID:-//Suquamish Museum - ECPv6.15.20//NONSGML v1.0//EN
CALSCALE:GREGORIAN
METHOD:PUBLISH
X-ORIGINAL-URL:https://suquamishmuseum.org
X-WR-CALDESC:Events for Suquamish Museum
REFRESH-INTERVAL;VALUE=DURATION:PT1H
X-Robots-Tag:noindex
X-PUBLISHED-TTL:PT1H
BEGIN:VTIMEZONE
TZID:UTC
BEGIN:STANDARD
TZOFFSETFROM:+0000
TZOFFSETTO:+0000
TZNAME:UTC
DTSTART:20250101T000000
END:STANDARD
END:VTIMEZONE
BEGIN:VEVENT
DTSTART;TZID=UTC:20260429T090000
DTEND;TZID=UTC:20260508T160000
DTSTAMP:20260421T152037
CREATED:20260301T164752Z
LAST-MODIFIED:20260326T154739Z
UID:10000110-1777453200-1778256000@suquamishmuseum.org
SUMMARY:Mother's Day Sale
DESCRIPTION:Celebrate Mother’s Day with a heartfelt gift from the Leota Anthony Museum Store—where every purchase carries a story and every mom is honored. \n\n\n\n10% off your total purchase. Discounts may be combined.
URL:https://suquamishmuseum.org/event/mothers-day-sale/
ATTACH;FMTTYPE=image/png:https://suquamishmuseum.org/wp-content/uploads/2026/03/MothersDaySale-Website.png
END:VEVENT
BEGIN:VEVENT
DTSTART;TZID=UTC:20260429T090000
DTEND;TZID=UTC:20260508T160000
DTSTAMP:20260421T152037
CREATED:20260301T165958Z
LAST-MODIFIED:20260326T154657Z
UID:10000113-1777453200-1778256000@suquamishmuseum.org
SUMMARY:Complimentary Mother's Day Paper Flower Bouquet
DESCRIPTION:Join us in celebrating the wonderful moms\, grandmas\, or aunties in your life by creating a complimentary Mother’s Day Paper Flower Bouquet! \n\n\n\nAll supplies provided. All ages. Limit 1 bouquet per person.
URL:https://suquamishmuseum.org/event/complimentary-mothers-day-paper-flower-bouquet-2/
ATTACH;FMTTYPE=image/png:https://suquamishmuseum.org/wp-content/uploads/2026/03/MothersDayActivityWebsite.png
END:VEVENT
BEGIN:VEVENT
DTSTART;TZID=UTC:20260506T090000
DTEND;TZID=UTC:20260506T130000
DTSTAMP:20260421T152037
CREATED:20260415T195615Z
LAST-MODIFIED:20260415T195620Z
UID:10000125-1778058000-1778072400@suquamishmuseum.org
SUMMARY:Brick Stitch Fish Earrings
DESCRIPTION:Join us for a free hands-on beading workshop\, courtesy of the Suquamish Tribal TANF Program. This workshop is led by Suquamish tribal member\, Marta Belmont. \n\n\n\n15 spots available\, ages 14+. Registration required. All materials included. Open to the public.  \n\n\n\nRegister at museum@suquamish.nsn.us or (360) 394-7105
URL:https://suquamishmuseum.org/event/brick-stitch-fish-earrings/
ATTACH;FMTTYPE=image/png:https://suquamishmuseum.org/wp-content/uploads/2026/04/May-6-Workshop-Website.png
END:VEVENT
BEGIN:VEVENT
DTSTART;TZID=UTC:20260506T090000
DTEND;TZID=UTC:20260529T160000
DTSTAMP:20260421T152037
CREATED:20260301T165641Z
LAST-MODIFIED:20260326T154538Z
UID:10000112-1778058000-1780070400@suquamishmuseum.org
SUMMARY:Military Appreciation Free Admission
DESCRIPTION:For Military personnel who are active duty\, reserve\, retired\, veteran\, disabled veteran\, or dependents. Present a valid\, non-expired military ID for free admission for you and up to 5 guests.  \n\n\n\nLimit 6 total admissions per ID per day. \n\n\n\nThank you for your service!
URL:https://suquamishmuseum.org/event/military-appreciation-free-admission/
ATTACH;FMTTYPE=image/png:https://suquamishmuseum.org/wp-content/uploads/2026/03/MemorialDayFreeAdmissionWebsite.png
END:VEVENT
END:VCALENDAR